BEGIN:VCALENDAR
VERSION:2.0
PRODID:-//Department Of Education//12b019ca-9641-4d63-bc5a-a649eb697c3a
BEGIN:VTIMEZONE
TZID:Australia/Sydney
TZURL:http://tzurl.org/zoneinfo-outlook/Australia/Sydney
X-LIC-LOCATION:Australia/Sydney
BEGIN:STANDARD
TZOFFSETFROM:+1100
TZOFFSETTO:+1000
TZNAME:AEST
DTSTART:19700405T030000
RRULE:FREQ=YEARLY;BYMONTH=4;BYDAY=1SU
END:STANDARD
BEGIN:DAYLIGHT
TZOFFSETFROM:+1000
TZOFFSETTO:+1100
TZNAME:AEDT
DTSTART:19701004T020000
RRULE:FREQ=YEARLY;BYMONTH=10;BYDAY=1SU
END:DAYLIGHT
END:VTIMEZONE
CALSCALE:GREGORIAN
X-WR-TIMEZONE:Australia/Sydney
BEGIN:VEVENT
DTSTART;VALUE=DATE:20200227
DTEND;VALUE=DATE:20200228
DTSTAMP:20200227T000000Z
UID:fe413636-c1d8-4275-8ab7-cdc498c21c24
LOCATION:Cobar
SUMMARY;LANGUAGE=en-us:NYNBAR Swimming
SEQUENCE:0
DESCRIPTION:Information for qualifiers has been sent home To be held at Cobar
END:VEVENT
TRANSP:TRANSPARENT
END:VCALENDAR
